BEGIN:VCALENDAR
VERSION:2.0
PRODID:-//Blasorchester Eberstadt - ECPv6.15.17.1//NONSGML v1.0//EN
CALSCALE:GREGORIAN
METHOD:PUBLISH
X-ORIGINAL-URL:https://www.blo-eberstadt.de
X-WR-CALDESC:Veranstaltungen für Blasorchester Eberstadt
REFRESH-INTERVAL;VALUE=DURATION:PT1H
X-Robots-Tag:noindex
X-PUBLISHED-TTL:PT1H
BEGIN:VTIMEZONE
TZID:Europe/Berlin
BEGIN:DAYLIGHT
TZOFFSETFROM:+0100
TZOFFSETTO:+0200
TZNAME:CEST
DTSTART:20250330T010000
END:DAYLIGHT
BEGIN:STANDARD
TZOFFSETFROM:+0200
TZOFFSETTO:+0100
TZNAME:CET
DTSTART:20251026T010000
END:STANDARD
BEGIN:DAYLIGHT
TZOFFSETFROM:+0100
TZOFFSETTO:+0200
TZNAME:CEST
DTSTART:20260329T010000
END:DAYLIGHT
BEGIN:STANDARD
TZOFFSETFROM:+0200
TZOFFSETTO:+0100
TZNAME:CET
DTSTART:20261025T010000
END:STANDARD
BEGIN:DAYLIGHT
TZOFFSETFROM:+0100
TZOFFSETTO:+0200
TZNAME:CEST
DTSTART:20270328T010000
END:DAYLIGHT
BEGIN:STANDARD
TZOFFSETFROM:+0200
TZOFFSETTO:+0100
TZNAME:CET
DTSTART:20271031T010000
END:STANDARD
END:VTIMEZONE
BEGIN:VEVENT
DTSTART;TZID=Europe/Berlin:20260822T100000
DTEND;TZID=Europe/Berlin:20260822T120000
DTSTAMP:20260425T150920
CREATED:20260325T155306Z
LAST-MODIFIED:20260325T155306Z
UID:1205-1787392800-1787400000@www.blo-eberstadt.de
SUMMARY:Auftaktfrühschoppen Music Forge Lich
DESCRIPTION:
URL:https://www.blo-eberstadt.de/event/auftaktfruehschoppen-music-forge-lich/
LOCATION:Lich
END:VEVENT
BEGIN:VEVENT
DTSTART;TZID=Europe/Berlin:20260823T160000
DTEND;TZID=Europe/Berlin:20260823T170000
DTSTAMP:20260425T150920
CREATED:20260325T155354Z
LAST-MODIFIED:20260325T155354Z
UID:1207-1787500800-1787504400@www.blo-eberstadt.de
SUMMARY:Kurkonzert Braunfels
DESCRIPTION:
URL:https://www.blo-eberstadt.de/event/kurkonzert-braunfels/
LOCATION:Braunfels
END:VEVENT
END:VCALENDAR